Workbook
Name _AnzahlBeschlagssatz: Daten!$Y$2
Name _AnzahlEndkappen: Daten!$T$40
Name _AnzahlHaken: Daten!$F$45
Name _AnzahlModulträger: Daten!$R$64
Name _AnzahlSIHaken: Daten!$F$68
Name _AnzahlUnterlegblech: Daten!$R$61
Name _AnzahlWindsafe: Daten!$BI$151
Name _AnzahlZuschnittKreuzschiene: Daten!$AE$163
Name _Auskragung_m: Daten!$R$62
Name _BallastierungAuswahl: Daten!$R$76
Name _BefestigungAuswahl: Daten!$N$1
Name _BF0: Daten!$Y$39
Name _BF1: Daten!$Y$40
Name _BF2: Daten!$Y$41
Name _BF3: Daten!$Y$42
Name _canUseSlatePlan: Daten!$H$130
Name _CompactVarioStuetze: Daten!$Y$28
Name _DHTypAuswahl: Daten!$S$164
Name _DiagonalAuswahl: Daten!$AB$84
Name _DiagonalVersteifung: Daten!$AB$90
Name _DuebelschelleName: Daten!$G$165
Name _FlachdachChecked: Daten!$AE$16
Name _GrosseStuetzenErlaubt: Daten!$J$39
Name _HakenGewaehlt: Daten!$F$44
Name _HakenRapid: Daten!$F$65
Name _HolzschraubeGewaehlt: Daten!$H$94
Name _Iso07Checked: Daten!$R$36
Name _IsoTopDicke: Daten!$AN$13:$AN$16
Name _IsoTopDurchmesser: Daten!$AM$2:$AM$5
Name _IsoTopErlaubt: Daten!$AO$10
Name _IsoTopFundament: Daten!$AJ$10
Name _IsotopIndex: Daten!$AJ$4
Name _IsoTopLaengeOben: Daten!$AN$5
Name _IsoTopLaengeUnten: Daten!$AO$5
Name _IsoTopMitLasche: Daten!$AJ$6
Name _IsoTopOhneLasche: Daten!$AJ$7
Name _IsoTopTrennplatte: Daten!$AJ$9
Name _IsoTopUnterteil: Daten!$AJ$8
Name _IsoTopWahlOben: Daten!$AN$2
Name _IsoTopWahlUnten: Daten!$AO$2
Name _KabelclipChecked: Daten!$R$37
Name _KlemmeIO: Daten!$R$12
Name _KlemmenDicke: Daten!$AX$93
Name _KlemmenDickeRapid: Daten!$AX$94
Name _Klicktop_Rapid: Daten!$B$48
Name _KlipOk: Daten!$B$34
Name _LinearCalc: Daten!$T$26
Name _LinearChecked: Daten!$R$26
Name _ListeRunden: INDIRECT([0]!_RundenAuswahlbereich)
Name _ListeRunden: INDIRECT('Bill of materials'!_RundenAuswahlbereich)
Name _ListeRunden: INDIRECT(_RundenAuswahlbereich)
Name _ListeRunden: INDIRECT(_RundenAuswahlbereich)
Name _MehrreihigChecked: Daten!$N$85
Name _RundenAuswahlbereich: #REF!
Name _RundenAuswahlbereich: Daten!$Q$147
Name _SchraubeIso07: Daten!$F$94
Name _SchwarzErlaubt: Daten!$AE$13
Name _ShownDiscount: Daten!$C$27
Name _SicherheitshakenChecked: Daten!$R$25
Name _SlatePlan: Daten!$L$1

Sheet Basis_Preisliste
F1: 0.05
B2: Basis-Preisliste
B3: Gültig ab 01.07.2025 (Änderungen vorbehalten)
F5: Bestelleinheit
F6: Stück | G6: VPE | J6: Großabnahme
B7: Artikelnummer | C7: Artikelbezeichnung | D7: PH2 Stufe | E7: UVP pro Stück (in €) | F7: pro Stück (in €) | G7: pro Stück (in €) | H7: Stück pro VPE | I7: Kontrolle Liefereinheit | J7: Ab # Paletten | K7: pro Stück (in €) | L7: Stück pro Palette | M7: Status
B8: 100001-000 | C8: Dachhaken Universal | D8: Roof hooks | E8: =G8+(G8*0.05) -> 18.2175 | G8: 17.35 | H8: =_xlfn.XLOOKUP(B8,MLGN!A:A,MLGN!K:K) -> 20 | I8: =VLOOKUP(B8,'Query Daten'!A:R,15,0) -> 20 | J8: 2 | K8: 10.03 | L8: 480 | M8: in | N8: =H8-I8 -> 0
B9: 100004-000 | C9: Dachhaken Eco S 135 | D9: Roof hooks | E9: =G9+(G9*0.05) -> 12.348 | G9: 11.76 | H9: =_xlfn.XLOOKUP(B9,MLGN!A:A,MLGN!K:K) -> 20 | I9: =VLOOKUP(B9,'Query Daten'!A:R,15,0) -> 20 | J9: 2 | K9: 6.8 | L9: 480 | M9: in | N9: =H9-I9 -> 0
B10: 100020-100 | C10: Dachhaken EcoA 45 Max | D10: Roof hooks | E10: =G10+(G10*0.05) -> 7.9485 | G10: 7.57 | H10: =_xlfn.XLOOKUP(B10,MLGN!A:A,MLGN!K:K) -> 20 | I10: =VLOOKUP(B10,'Query Daten'!A:R,15,0) -> 20 | J10: 1 | K10: 4.37 | L10: 1280 | M10: in | N10: =H10-I10 -> 0
B11: 101001-020 | C11: Dachhaken Rapid2+Pro 45 | D11: Roof hooks | E11: =G11+(G11*0.05) -> 16.9365 | G11: 16.13 | H11: =_xlfn.XLOOKUP(B11,MLGN!A:A,MLGN!K:K) -> 20 | I11: =VLOOKUP(B11,'Query Daten'!A:R,15,0) -> 20 | J11: 10 | K11: 9.23 | L11: 480 | M11: in | N11: =H11-I11 -> 0
B12: 101001-022 | C12: Dachhaken Rapid2+Pro 45 HSL | D12: Roof hooks | E12: =G12+(G12*0.05) -> 15.3825 | G12: 14.65 | H12: =_xlfn.XLOOKUP(B12,MLGN!A:A,MLGN!K:K) -> 20 | I12: =VLOOKUP(B12,'Query Daten'!A:R,15,0) -> 20 | J12: 2 | K12: 8.46 | L12: 480 | M12: in | N12: =H12-I12 -> 0
B13: 101002-020 | C13: Dachhaken Rapid2+Pro 35 | D13: Roof hooks | E13: =G13+(G13*0.05) -> 16.5165 | G13: 15.73 | H13: =_xlfn.XLOOKUP(B13,MLGN!A:A,MLGN!K:K) -> 20 | I13: =VLOOKUP(B13,'Query Daten'!A:R,15,0) -> 20 | J13: 2 | K13: 9.09 | L13: 480 | M13: in | N13: =H13-I13 -> 0
B14: 101004-020 | C14: Dachhaken Rapid2+Pro Universal | D14: Roof hooks | E14: =G14+(G14*0.05) -> 26.7855 | G14: 25.51 | H14: =_xlfn.XLOOKUP(B14,MLGN!A:A,MLGN!K:K) -> 10 | I14: =VLOOKUP(B14,'Query Daten'!A:R,15,0) -> 10 | J14: 4 | K14: 14.74 | L14: 240 | M14: in | N14: =H14-I14 -> 0
B15: 101005-020 | C15: Dachhaken Rapid2+Pro Max | D15: Roof hooks | E15: =G15+(G15*0.05) -> 25.8615 | G15: 24.63 | H15: =_xlfn.XLOOKUP(B15,MLGN!A:A,MLGN!K:K) -> 10 | I15: =VLOOKUP(B15,'Query Daten'!A:R,15,0) -> 10 | J15: 4 | K15: 14.23 | L15: 240 | M15: in | N15: =H15-I15 -> 0
B16: 101005-021 | C16: Dachhaken Rapid2+Pro Max 150 | D16: Roof hooks | E16: =G16+(G16*0.05) -> 26.187 | G16: 24.94 | H16: =_xlfn.XLOOKUP(B16,MLGN!A:A,MLGN!K:K) -> 10 | I16: =VLOOKUP(B16,'Query Daten'!A:R,15,0) -> 10 | M16: in | N16: =H16-I16 -> 0
B17: 101005-024 | C17: Dachhaken Rapid2+Pro Max HSL | D17: Roof hooks | E17: =G17+(G17*0.05) -> 22.764 | G17: 21.68 | H17: =_xlfn.XLOOKUP(B17,MLGN!A:A,MLGN!K:K) -> 10 | I17: =VLOOKUP(B17,'Query Daten'!A:R,15,0) -> 10 | J17: 4 | K17: 11.87 | L17: 240 | M17: in | N17: =H17-I17 -> 0
B18: 101006-020 | C18: Dachhaken Rapid2+Pro MaxV | D18: Roof hooks | E18: =G18+(G18*0.05) -> 26.46 | G18: 25.2 | H18: =_xlfn.XLOOKUP(B18,MLGN!A:A,MLGN!K:K) -> 10 | I18: =VLOOKUP(B18,'Query Daten'!A:R,15,0) -> 10 | M18: in | N18: =H18-I18 -> 0
B19: 101020-120 | C19: Dachhaken RapidA 45 Pro Max | D19: Roof hooks | E19: =G19+(G19*0.05) -> 11.8755 | G19: 11.31 | H19: =_xlfn.XLOOKUP(B19,MLGN!A:A,MLGN!K:K) -> 30 | I19: =VLOOKUP(B19,'Query Daten'!A:R,15,0) -> 30 | J19: 1 | K19: 6.54 | L19: 960 | M19: in | N19: =H19-I19 -> 0
B20: 101020-220 | C20: Dachhaken RapidA 35 Pro Max | D20: Roof hooks | E20: =G20+(G20*0.05) -> 11.697 | G20: 11.14 | H20: =_xlfn.XLOOKUP(B20,MLGN!A:A,MLGN!K:K) -> 30 | I20: =VLOOKUP(B20,'Query Daten'!A:R,15,0) -> 30 | J20: 1 | K20: 6.44 | L20: 960 | M20: in | N20: =H20-I20 -> 0
B21: 101024-120 | C21: Dachhaken RapidA 45 Pro Universal Max | D21: Roof hooks | E21: =G21+(G21*0.05) -> 20.2545 | G21: 19.29 | H21: =_xlfn.XLOOKUP(B21,MLGN!A:A,MLGN!K:K) -> 20 | I21: =VLOOKUP(B21,'Query Daten'!A:R,15,0) -> 20 | M21: in | N21: =H21-I21 -> 0
B22: 101028-020 | C22: Dachhaken RapidA Pro 2L | D22: Roof hooks | E22: =G22+(G22*0.05) -> 10.3845 | G22: 9.89 | H22: =_xlfn.XLOOKUP(B22,MLGN!A:A,MLGN!K:K) -> 30 | I22: =VLOOKUP(B22,'Query Daten'!A:R,15,0) -> 30 | J22: 4 | K22: 5.41 | L22: 720 | M22: in | N22: =H22-I22 -> 0
B23: 103005-002 | C23: Alu-Tile BEZ f. Erlus Falzziegel | D23: Roof hooks | E23: =G23+(G23*0.05) -> 27.762 | G23: 26.44 | H23: =_xlfn.XLOOKUP(B23,MLGN!A:A,MLGN!K:K) -> 10 | I23: =VLOOKUP(B23,'Query Daten'!A:R,15,0) -> 10 | M23: in | N23: =H23-I23 -> 0
B24: 103005-003 | C24: Alu-Tile BEZ f. Braas Frankfurter Pfanne | D24: Roof hooks | E24: =G24+(G24*0.05) -> 27.741 | G24: 26.42 | H24: =_xlfn.XLOOKUP(B24,MLGN!A:A,MLGN!K:K) -> 10 | I24: =VLOOKUP(B24,'Query Daten'!A:R,15,0) -> 10 | J24: 4 | K24: 15.27 | L24: 250 | M24: in | N24: =H24-I24 -> 0
B25: 103005-004 | C25: Alu-Tile BEZ f. Meindl Rustico | D25: Roof hooks | E25: =G25+(G25*0.05) -> 26.502 | G25: 25.24 | H25: =_xlfn.XLOOKUP(B25,MLGN!A:A,MLGN!K:K) -> 10 | I25: =VLOOKUP(B25,'Query Daten'!A:R,15,0) -> 10 | M25: in | N25: =H25-I25 -> 0
B26: 103005-006 | C26: Alu-Tile BEZ f. Eternit Heidelberger | D26: Roof hooks | E26: =G26+(G26*0.05) -> 31.29 | G26: 29.8 | H26: =_xlfn.XLOOKUP(B26,MLGN!A:A,MLGN!K:K) -> 10 | I26: =VLOOKUP(B26,'Query Daten'!A:R,15,0) -> 10 | M26: in | N26: =H26-I26 -> 0
B27: 103005-007 | C27: Alu-Tile BEZ f. Erlus Großfalzziegel | D27: Roof hooks | E27: =G27+(G27*0.05) -> 26.7435 | G27: 25.47 | H27: =_xlfn.XLOOKUP(B27,MLGN!A:A,MLGN!K:K) -> 10 | I27: =VLOOKUP(B27,'Query Daten'!A:R,15,0) -> 10 | M27: in | N27: =H27-I27 -> 0
B28: 103005-010 | C28: Alu-Tile BEZ f. Erlus Großfalzziegel XXL | D28: Roof hooks | E28: =G28+(G28*0.05) -> 31.7625 | G28: 30.25 | H28: =_xlfn.XLOOKUP(B28,MLGN!A:A,MLGN!K:K) -> 10 | I28: =VLOOKUP(B28,'Query Daten'!A:R,15,0) -> 10 | M28: in | N28: =H28-I28 -> 0
B29: 103005-011 | C29: Alu-Tile BEZ f. Braas Taunuspfanne | D29: Roof hooks | E29: =G29+(G29*0.05) -> 30.3135 | G29: 28.87 | H29: =_xlfn.XLOOKUP(B29,MLGN!A:A,MLGN!K:K) -> 10 | I29: =VLOOKUP(B29,'Query Daten'!A:R,15,0) -> 10 | M29: in | N29: =H29-I29 -> 0
B30: 103005-015 | C30: Alu-Tile BEZ f. Erlus E58 | D30: Roof hooks | E30: =G30+(G30*0.05) -> 32.6445 | G30: 31.09 | H30: =_xlfn.XLOOKUP(B30,MLGN!A:A,MLGN!K:K) -> 10 | I30: =VLOOKUP(B30,'Query Daten'!A:R,15,0) -> 10 | M30: in | N30: =H30-I30 -> 0
B31: 103005-022 | C31: Alu-Tile BEZ f. Braas Harzer Pfanne | D31: Roof hooks | E31: =G31+(G31*0.05) -> 28.455 | G31: 27.1 | H31: =_xlfn.XLOOKUP(B31,MLGN!A:A,MLGN!K:K) -> 10 | I31: =VLOOKUP(B31,'Query Daten'!A:R,15,0) -> 10 | M31: in | N31: =H31-I31 -> 0
B32: 103005-024 | C32: Alu-Tile BEZ f. Erlus Forma | D32: Roof hooks | E32: =G32+(G32*0.05) -> 30.03 | G32: 28.6 | H32: =_xlfn.XLOOKUP(B32,MLGN!A:A,MLGN!K:K) -> 10 | I32: =VLOOKUP(B32,'Query Daten'!A:R,15,0) -> 10 | M32: in | N32: =H32-I32 -> 0
B33: 103005-025 | C33: Alu-Tile BEZ f. Braas Tegalit | D33: Roof hooks | E33: =G33+(G33*0.05) -> 30.303 | G33: 28.86 | H33: =_xlfn.XLOOKUP(B33,MLGN!A:A,MLGN!K:K) -> 10 | I33: =VLOOKUP(B33,'Query Daten'!A:R,15,0) -> 10 | M33: in | N33: =H33-I33 -> 0
B34: 103005-049 | C34: Alu-Tile BEZ f. Erlus Linea | D34: Roof hooks | E34: =G34+(G34*0.05) -> 28.791 | G34: 27.42 | H34: =_xlfn.XLOOKUP(B34,MLGN!A:A,MLGN!K:K) -> 10 | I34: =VLOOKUP(B34,'Query Daten'!A:R,15,0) -> 10 | M34: in | N34: =H34-I34 -> 0
B35: 103005-057 | C35: Alu-Tile BEZ f. Erlus Reformpfanne XXL | D35: Roof hooks | E35: =G35+(G35*0.05) -> 29.337 | G35: 27.94 | H35: =_xlfn.XLOOKUP(B35,MLGN!A:A,MLGN!K:K) -> 10 | I35: =VLOOKUP(B35,'Query Daten'!A:R,15,0) -> 10 | M35: in | N35: =H35-I35 -> 0
B36: 103005-067 | C36: Alu-Tile BEZ f. Braas TOPAS 13V | D36: Roof hooks | E36: =G36+(G36*0.05) -> 30.1665 | G36: 28.73 | H36: =_xlfn.XLOOKUP(B36,MLGN!A:A,MLGN!K:K) -> 10 | I36: =VLOOKUP(B36,'Query Daten'!A:R,15,0) -> 10 | M36: in | N36: =H36-I36 -> 0
... B38: 103005-184 | C38: Alu-Tile BEZ f. Meindl MZ3 | D38: Roof hooks | E38: =G38+(G38*0.05) -> 31.878 | G38: 30.36 | H38: =_xlfn.XLOOKUP(B38,MLGN!A:A,MLGN!K:K) -> 10 | I38: =VLOOKUP(B38,'Query Daten'!A:R,15,0) -> 10 | M38: in | N38: =H38-I38 -> 0
B39: 103006-020 | C39: Alu-Tile Pro Dachhaken-Set | D39: Roof hooks | E39: =G39+(G39*0.05) -> 15.2565 | G39: 14.53 | H39: =_xlfn.XLOOKUP(B39,MLGN!A:A,MLGN!K:K) -> 10 | I39: =VLOOKUP(B39,'Query Daten'!A:R,15,0) -> 10 | J39: 2 | K39: 8.4 | L39: 480 | M39: in | N39: =H39-I39 -> 0
B40: 109008-003 | C40: RapFix - Aufsatz für Eco-Dachhaken | D40: Screws and accessories | E40: =G40+(G40*0.05) -> 4.767 | G40: 4.54 | H40: =_xlfn.XLOOKUP(B40,MLGN!A:A,MLGN!K:K) -> 50 | I40: =VLOOKUP(B40,'Query Daten'!A:R,15,0) -> 50 | J40: 1 | K40: 2.52 | L40: 2400 | M40: in | N40: =H40-I40 -> 0
B41: 109008-004 | C41: RapFix - Aufsatz flach | D41: Screws and accessories | E41: =G41+(G41*0.05) -> 3.9375 | G41: 3.75 | H41: =_xlfn.XLOOKUP(B41,MLGN!A:A,MLGN!K:K) -> 50 | I41: =VLOOKUP(B41,'Query Daten'!A:R,15,0) -> 50 | M41: in | N41: =H41-I41 -> 0
B42: 109008-023 | C42: RapFix Pro | D42: Screws and accessories | E42: =G42+(G42*0.05) -> 4.6305 | G42: 4.41 | H42: =_xlfn.XLOOKUP(B42,MLGN!A:A,MLGN!K:K) -> 50 | I42: =VLOOKUP(B42,'Query Daten'!A:R,15,0) -> 50 | M42: in | N42: =H42-I42 -> 0
...

Sheet Schletter Price list 2025
B2: ='Language Layout'!$B$64 -> Price List | K2: ='Language Layout'!$B$99 -> Cost estimate
B3: ='Language Layout'!$B$76 -> Language: | D3: ='Language Layout'!$B$49 -> Your discount (%): | G3: 0
B4: ='Language Layout'!$B$47 -> Valid from 01.05.2025 (subject to modifications) | K4: ='Language Layout'!$B$43 -> Total
G5: ='Language Layout'!$B$103 -> Piece | H5: ='Language Layout'!B85 -> Packing unit | K5: =SUM(K7:K1048576) -> 0 | L5: =SUM(L7:L1048576) -> 0
B6: ='Language Layout'!$B$17 -> Item No. | C6: ='Language Layout'!$B$14 -> Material short text | D6: ='Language Layout'!$B$98 -> Product family | E6: ='Language Layout'!$B$62 -> Net (€) | F6: ='Language Layout'!$B$62 -> Net (€) | G6: ='Language Layout'!$B$59 -> With discount | H6: ='Language Layout'!$B$59 -> With discount | I6: ='Language Layout'!$B$85 -> Packing unit | K6: ='Language Layout'!$B$57 -> Quantity | L6: ='Language Layout'!$B$43 -> Total
E7: ='Language Layout'!$B$108 -> RRP | F7: ='Language Layout'!$B$56 -> List price per piece | G7: ='Language Layout'!$B$104 -> Price (€) per piece | H7: ='Language Layout'!$B$104 -> Price (€) per piece | J7: ='Language Layout'!$B$100 -> Quantity per pallet | L7: ='Language Layout'!$B$62 -> Net (€) | M7: Ganze VPE´s | N7: Einzelstk. | O7: Summe
B8: 100004-000 | C8: =VLOOKUP(B8,'Language Articles'!A:B,2,0) -> Roof hook Eco S 135 | D8: =VLOOKUP(B8,'Language Portfolio'!A:B,2,0) -> Roof hooks | E8: =VLOOKUP(B8,Basis_Preisliste!B:E,4,0) -> 12.348 | F8: =IF(_xlfn.XLOOKUP(B8,Basis_Preisliste!B:B,Basis_Preisliste!F:F)="",_xlfn.XLOOKUP(B8,Basis_Preisliste!B:B,Basis_Preisliste!G:G),_xlfn.XLOOKUP(B8,Basis_Preisliste!B:B,Basis_Preisliste!F:F)) -> 11.76 | G8: =IF(_xlfn.XLOOKUP(B8,Basis_Preisliste!B:B,Basis_Preisliste!F:F)="","", _xlfn.XLOOKUP(B8,Basis_Preisliste!B:B,Basis_Preisliste!F:F)*(1-$G$3)) | H8: =IF(_xlfn.XLOOKUP(B8,Basis_Preisliste!B:B,Basis_Preisliste!G:G)="","to be defined",_xlfn.XLOOKUP(B8,Basis_Preisliste!B:B,Basis_Preisliste!G:G)*(1-$G$3)) -> 11.76 | I8: =IF(INDEX(Basis_Preisliste!H:H,MATCH(B8,Basis_Preisliste!B:B,0))=0,"",INDEX(Basis_Preisliste!H:H,MATCH(B8,Basis_Preisliste!B:B,0))) -> 20 | J8: =_xlfn.XLOOKUP(B8,'Article Master Data'!B:B,'Article Master Data'!R:R) -> 480 | L8: =IF(O8>0,O8,"") | M8: =ROUNDDOWN(K8/I8,0) -> 0 | N8: =K8-(M8*I8) -> 0 | O8: =IF(AND(N8<>0,G8=""),'Language Layout'!$B$106,M8*I8*H8+N8*IF(G8="",0,G8)) -> 0 | P8: =K8>0 -> FALSE | Q8: =P8*(MAX($Q$7:Q7)+1) -> 0
B9: 100020-100 | C9: =VLOOKUP(B9,'Language Articles'!A:B,2,0) -> Roof hook EcoA 45 Max | D9: =VLOOKUP(B9,'Language Portfolio'!A:B,2,0) -> Roof hooks | E9: =VLOOKUP(B9,Basis_Preisliste!B:E,4,0) -> 7.9485 | F9: =IF(_xlfn.XLOOKUP(B9,Basis_Preisliste!B:B,Basis_Preisliste!F:F)="",_xlfn.XLOOKUP(B9,Basis_Preisliste!B:B,Basis_Preisliste!G:G),_xlfn.XLOOKUP(B9,Basis_Preisliste!B:B,Basis_Preisliste!F:F)) -> 7.57 | G9: =IF(_xlfn.XLOOKUP(B9,Basis_Preisliste!B:B,Basis_Preisliste!F:F)="","", _xlfn.XLOOKUP(B9,Basis_Preisliste!B:B,Basis_Preisliste!F:F)*(1-$G$3)) | H9: =IF(_xlfn.XLOOKUP(B9,Basis_Preisliste!B:B,Basis_Preisliste!G:G)="","to be defined",_xlfn.XLOOKUP(B9,Basis_Preisliste!B:B,Basis_Preisliste!G:G)*(1-$G$3)) -> 7.57 | I9: =IF(INDEX(Basis_Preisliste!H:H,MATCH(B9,Basis_Preisliste!B:B,0))=0,"",INDEX(Basis_Preisliste!H:H,MATCH(B9,Basis_Preisliste!B:B,0))) -> 20 | J9: =_xlfn.XLOOKUP(B9,'Article Master Data'!B:B,'Article Master Data'!R:R) -> 1280 | L9: =IF(O9>0,O9,"") | M9: =ROUNDDOWN(K9/I9,0) -> 0 | N9: =K9-(M9*I9) -> 0 | O9: =IF(AND(N9<>0,G9=""),'Language Layout'!$B$106,M9*I9*H9+N9*IF(G9="",0,G9)) -> 0 | P9: =K9>0 -> FALSE | Q9: =P9*(MAX($Q$7:Q8)+1) -> 0
B10: 100001-000 | C10: =VLOOKUP(B10,'Language Articles'!A:B,2,0) -> Universal Roof hook | D10: =VLOOKUP(B10,'Language Portfolio'!A:B,2,0) -> Roof hooks | E10: =VLOOKUP(B10,Basis_Preisliste!B:E,4,0) -> 18.2175 | F10: =IF(_xlfn.XLOOKUP(B10,Basis_Preisliste!B:B,Basis_Preisliste!F:F)="",_xlfn.XLOOKUP(B10,Basis_Preisliste!B:B,Basis_Preisliste!G:G),_xlfn.XLOOKUP(B10,Basis_Preisliste!B:B,Basis_Preisliste!F:F)) -> 17.35 | G10: =IF(_xlfn.XLOOKUP(B10,Basis_Preisliste!B:B,Basis_Preisliste!F:F)="","", _xlfn.XLOOKUP(B10,Basis_Preisliste!B:B,Basis_Preisliste!F:F)*(1-$G$3)) | H10: =IF(_xlfn.XLOOKUP(B10,Basis_Preisliste!B:B,Basis_Preisliste!G:G)="","to be defined",_xlfn.XLOOKUP(B10,Basis_Preisliste!B:B,Basis_Preisliste!G:G)*(1-$G$3)) -> 17.35 | I10: =IF(INDEX(Basis_Preisliste!H:H,MATCH(B10,Basis_Preisliste!B:B,0))=0,"",INDEX(Basis_Preisliste!H:H,MATCH(B10,Basis_Preisliste!B:B,0))) -> 20 | J10: =_xlfn.XLOOKUP(B10,'Article Master Data'!B:B,'Article Master Data'!R:R) -> 480 | L10: =IF(O10>0,O10,"") | M10: =ROUNDDOWN(K10/I10,0) -> 0 | N10: =K10-(M10*I10) -> 0 | O10: =IF(AND(N10<>0,G10=""),'Language Layout'!$B$106,M10*I10*H10+N10*IF(G10="",0,G10)) -> 0 | P10: =K10>0 -> FALSE | Q10: =P10*(MAX($Q$7:Q9)+1) -> 0
B11: 109016-007 | C11: =VLOOKUP(B11,'Language Articles'!A:B,2,0) -> Plain tile for BEZ Rapid Alu | D11: =VLOOKUP(B11,'Language Portfolio'!A:B,2,0) -> Roof hooks | E11: =VLOOKUP(B11,Basis_Preisliste!B:E,4,0) -> 9.492 | F11: =IF(_xlfn.XLOOKUP(B11,Basis_Preisliste!B:B,Basis_Preisliste!F:F)="",_xlfn.XLOOKUP(B11,Basis_Preisliste!B:B,Basis_Preisliste!G:G),_xlfn.XLOOKUP(B11,Basis_Preisliste!B:B,Basis_Preisliste!F:F)) -> 9.04 | G11: =IF(_xlfn.XLOOKUP(B11,Basis_Preisliste!B:B,Basis_Preisliste!F:F)="","", _xlfn.XLOOKUP(B11,Basis_Preisliste!B:B,Basis_Preisliste!F:F)*(1-$G$3)) | H11: =IF(_xlfn.XLOOKUP(B11,Basis_Preisliste!B:B,Basis_Preisliste!G:G)="","to be defined",_xlfn.XLOOKUP(B11,Basis_Preisliste!B:B,Basis_Preisliste!G:G)*(1-$G$3)) -> 9.04 | I11: =IF(INDEX(Basis_Preisliste!H:H,MATCH(B11,Basis_Preisliste!B:B,0))=0,"",INDEX(Basis_Preisliste!H:H,MATCH(B11,Basis_Preisliste!B:B,0))) -> 20 | J11: =_xlfn.XLOOKUP(B11,'Article Master Data'!B:B,'Article Master Data'!R:R) -> 480 | L11: =IF(O11>0,O11,"") | M11: =ROUNDDOWN(K11/I11,0) -> 0 | N11: =K11-(M11*I11) -> 0 | O11: =IF(AND(N11<>0,G11=""),'Language Layout'!$B$106,M11*I11*H11+N11*IF(G11="",0,G11)) -> 0 | P11: =K11>0 -> FALSE | Q11: =P11*(MAX($Q$7:Q10)+1) -> 0
B12: 109016-008 | C12: =VLOOKUP(B12,'Language Articles'!A:B,2,0) -> Plain tile for BEZ Rapid Cu | D12: =VLOOKUP(B12,'Language Portfolio'!A:B,2,0) -> Roof hooks | E12: =VLOOKUP(B12,Basis_Preisliste!B:E,4,0) -> 34.7655 | F12: =IF(_xlfn.XLOOKUP(B12,Basis_Preisliste!B:B,Basis_Preisliste!F:F)="",_xlfn.XLOOKUP(B12,Basis_Preisliste!B:B,Basis_Preisliste!G:G),_xlfn.XLOOKUP(B12,Basis_Preisliste!B:B,Basis_Preisliste!F:F)) -> 33.11 | G12: =IF(_xlfn.XLOOKUP(B12,Basis_Preisliste!B:B,Basis_Preisliste!F:F)="","", _xlfn.XLOOKUP(B12,Basis_Preisliste!B:B,Basis_Preisliste!F:F)*(1-$G$3)) | H12: =IF(_xlfn.XLOOKUP(B12,Basis_Preisliste!B:B,Basis_Preisliste!G:G)="","to be defined",_xlfn.XLOOKUP(B12,Basis_Preisliste!B:B,Basis_Preisliste!G:G)*(1-$G$3)) -> 33.11 | I12: =IF(INDEX(Basis_Preisliste!H:H,MATCH(B12,Basis_Preisliste!B:B,0))=0,"",INDEX(Basis_Preisliste!H:H,MATCH(B12,Basis_Preisliste!B:B,0))) -> 20 | J12: =_xlfn.XLOOKUP(B12,'Article Master Data'!B:B,'Article Master Data'!R:R) -> 480 | L12: =IF(O12>0,O12,"") | M12: =ROUNDDOWN(K12/I12,0) -> 0 | N12: =K12-(M12*I12) -> 0 | O12: =IF(AND(N12<>0,G12=""),'Language Layout'!$B$106,M12*I12*H12+N12*IF(G12="",0,G12)) -> 0 | P12: =K12>0 -> FALSE | Q12: =P12*(MAX($Q$7:Q11)+1) -> 0
B13: 109016-009 | C13: =VLOOKUP(B13,'Language Articles'!A:B,2,0) -> Plain tile BEZ Rapid alum. 170x380 | D13: =VLOOKUP(B13,'Language Portfolio'!A:B,2,0) -> Roof hooks | E13: =VLOOKUP(B13,Basis_Preisliste!B:E,4,0) -> 11.298 | F13: =IF(_xlfn.XLOOKUP(B13,Basis_Preisliste!B:B,Basis_Preisliste!F:F)="",_xlfn.XLOOKUP(B13,Basis_Preisliste!B:B,Basis_Preisliste!G:G),_xlfn.XLOOKUP(B13,Basis_Preisliste!B:B,Basis_Preisliste!F:F)) -> 10.76 | G13: =IF(_xlfn.XLOOKUP(B13,Basis_Preisliste!B:B,Basis_Preisliste!F:F)="","", _xlfn.XLOOKUP(B13,Basis_Preisliste!B:B,Basis_Preisliste!F:F)*(1-$G$3)) | H13: =IF(_xlfn.XLOOKUP(B13,Basis_Preisliste!B:B,Basis_Preisliste!G:G)="","to be defined",_xlfn.XLOOKUP(B13,Basis_Preisliste!B:B,Basis_Preisliste!G:G)*(1-$G$3)) -> 10.76 | I13: =IF(INDEX(Basis_Preisliste!H:H,MATCH(B13,Basis_Preisliste!B:B,0))=0,"",INDEX(Basis_Preisliste!H:H,MATCH(B13,Basis_Preisliste!B:B,0))) -> 20 | J13: =_xlfn.XLOOKUP(B13,'Article Master Data'!B:B,'Article Master Data'!R:R) -> 480 | L13: =IF(O13>0,O13,"") | M13: =ROUNDDOWN(K13/I13,0) -> 0 | N13: =K13-(M13*I13) -> 0 | O13: =IF(AND(N13<>0,G13=""),'Language Layout'!$B$106,M13*I13*H13+N13*IF(G13="",0,G13)) -> 0 | P13: =K13>0 -> FALSE | Q13: =P13*(MAX($Q$7:Q12)+1) -> 0
B14: 109016-010 | C14: =VLOOKUP(B14,'Language Articles'!A:B,2,0) -> Plain tile BEZ Rapid alum. 190x400 KIT | D14: =VLOOKUP(B14,'Language Portfolio'!A:B,2,0) -> Roof hooks | E14: =VLOOKUP(B14,Basis_Preisliste!B:E,4,0) -> 12.369 | F14: =IF(_xlfn.XLOOKUP(B14,Basis_Preisliste!B:B,Basis_Preisliste!F:F)="",_xlfn.XLOOKUP(B14,Basis_Preisliste!B:B,Basis_Preisliste!G:G),_xlfn.XLOOKUP(B14,Basis_Preisliste!B:B,Basis_Preisliste!F:F)) -> 11.78 | G14: =IF(_xlfn.XLOOKUP(B14,Basis_Preisliste!B:B,Basis_Preisliste!F:F)="","", _xlfn.XLOOKUP(B14,Basis_Preisliste!B:B,Basis_Preisliste!F:F)*(1-$G$3)) | H14: =IF(_xlfn.XLOOKUP(B14,Basis_Preisliste!B:B,Basis_Preisliste!G:G)="","to be defined",_xlfn.XLOOKUP(B14,Basis_Preisliste!B:B,Basis_Preisliste!G:G)*(1-$G$3)) -> 11.78 | I14: =IF(INDEX(Basis_Preisliste!H:H,MATCH(B14,Basis_Preisliste!B:B,0))=0,"",INDEX(Basis_Preisliste!H:H,MATCH(B14,Basis_Preisliste!B:B,0))) -> 20 | J14: =_xlfn.XLOOKUP(B14,'Article Master Data'!B:B,'Article Master Data'!R:R) -> 480 | L14: =IF(O14>0,O14,"") | M14: =ROUNDDOWN(K14/I14,0) -> 0 | N14: =K14-(M14*I14) -> 0 | O14: =IF(AND(N14<>0,G14=""),'Language Layout'!$B$106,M14*I14*H14+N14*IF(G14="",0,G14)) -> 0 | P14: =K14>0 -> FALSE | Q14: =P14*(MAX($Q$7:Q13)+1) -> 0
B15: 109019-020 | C15: =VLOOKUP(B15,'Language Articles'!A:B,2,0) -> Roof hook plain tile for Rapid Pro Alu | D15: =VLOOKUP(B15,'Language Portfolio'!A:B,2,0) -> Roof hooks | E15: =VLOOKUP(B15,Basis_Preisliste!B:E,4,0) -> 11.928 | F15: =IF(_xlfn.XLOOKUP(B15,Basis_Preisliste!B:B,Basis_Preisliste!F:F)="",_xlfn.XLOOKUP(B15,Basis_Preisliste!B:B,Basis_Preisliste!G:G),_xlfn.XLOOKUP(B15,Basis_Preisliste!B:B,Basis_Preisliste!F:F)) -> 11.36 | G15: =IF(_xlfn.XLOOKUP(B15,Basis_Preisliste!B:B,Basis_Preisliste!F:F)="","", _xlfn.XLOOKUP(B15,Basis_Preisliste!B:B,Basis_Preisliste!F:F)*(1-$G$3)) | H15: =IF(_xlfn.XLOOKUP(B15,Basis_Preisliste!B:B,Basis_Preisliste!G:G)="","to be defined",_xlfn.XLOOKUP(B15,Basis_Preisliste!B:B,Basis_Preisliste!G:G)*(1-$G$3)) -> 11.36 | I15: =IF(INDEX(Basis_Preisliste!H:H,MATCH(B15,Basis_Preisliste!B:B,0))=0,"",INDEX(Basis_Preisliste!H:H,MATCH(B15,Basis_Preisliste!B:B,0))) -> 20 | J15: =_xlfn.XLOOKUP(B15,'Article Master Data'!B:B,'Article Master Data'!R:R) -> 960 | L15: =IF(O15>0,O15,"") | M15: =ROUNDDOWN(K15/I15,0) -> 0 | N15: =K15-(M15*I15) -> 0 | O15: =IF(AND(N15<>0,G15=""),'Language Layout'!$B$106,M15*I15*H15+N15*IF(G15="",0,G15)) -> 0 | P15: =K15>0 -> FALSE | Q15: =P15*(MAX($Q$7:Q14)+1) -> 0
B16: 109019-021 | C16: =VLOOKUP(B16,'Language Articles'!A:B,2,0) -> Roof hook plain tile for Rapid Pro | D16: =VLOOKUP(B16,'Language Portfolio'!A:B,2,0) -> Roof hooks | E16: =VLOOKUP(B16,Basis_Preisliste!B:E,4,0) -> 15.4875 | F16: =IF(_xlfn.XLOOKUP(B16,Basis_Preisliste!B:B,Basis_Preisliste!F:F)="",_xlfn.XLOOKUP(B16,Basis_Preisliste!B:B,Basis_Preisliste!G:G),_xlfn.XLOOKUP(B16,Basis_Preisliste!B:B,Basis_Preisliste!F:F)) -> 14.75 | G16: =IF(_xlfn.XLOOKUP(B16,Basis_Preisliste!B:B,Basis_Preisliste!F:F)="","", _xlfn.XLOOKUP(B16,Basis_Preisliste!B:B,Basis_Preisliste!F:F)*(1-$G$3)) | H16: =IF(_xlfn.XLOOKUP(B16,Basis_Preisliste!B:B,Basis_Preisliste!G:G)="","to be defined",_xlfn.XLOOKUP(B16,Basis_Preisliste!B:B,Basis_Preisliste!G:G)*(1-$G$3)) -> 14.75 | I16: =IF(INDEX(Basis_Preisliste!H:H,MATCH(B16,Basis_Preisliste!B:B,0))=0,"",INDEX(Basis_Preisliste!H:H,MATCH(B16,Basis_Preisliste!B:B,0))) -> 20 | J16: =_xlfn.XLOOKUP(B16,'Article Master Data'!B:B,'Article Master Data'!R:R) -> 960 | L16: =IF(O16>0,O16,"") | M16: =ROUNDDOWN(K16/I16,0) -> 0 | N16: =K16-(M16*I16) -> 0 | O16: =IF(AND(N16<>0,G16=""),'Language Layout'!$B$106,M16*I16*H16+N16*IF(G16="",0,G16)) -> 0 | P16: =K16>0 -> FALSE | Q16: =P16*(MAX($Q$7:Q15)+1) -> 0
B17: 109019-022 | C17: =VLOOKUP(B17,'Language Articles'!A:B,2,0) -> Rook hook plain tile Rapid Pro 190x400 | D17: =VLOOKUP(B17,'Language Portfolio'!A:B,2,0) -> Roof hooks | E17: =VLOOKUP(B17,Basis_Preisliste!B:E,4,0) -> 16.359 | F17: =IF(_xlfn.XLOOKUP(B17,Basis_Preisliste!B:B,Basis_Preisliste!F:F)="",_xlfn.XLOOKUP(B17,Basis_Preisliste!B:B,Basis_Preisliste!G:G),_xlfn.XLOOKUP(B17,Basis_Preisliste!B:B,Basis_Preisliste!F:F)) -> 15.58 | G17: =IF(_xlfn.XLOOKUP(B17,Basis_Preisliste!B:B,Basis_Preisliste!F:F)="","", _xlfn.XLOOKUP(B17,Basis_Preisliste!B:B,Basis_Preisliste!F:F)*(1-$G$3)) | H17: =IF(_xlfn.XLOOKUP(B17,Basis_Preisliste!B:B,Basis_Preisliste!G:G)="","to be defined",_xlfn.XLOOKUP(B17,Basis_Preisliste!B:B,Basis_Preisliste!G:G)*(1-$G$3)) -> 15.58 | I17: =IF(INDEX(Basis_Preisliste!H:H,MATCH(B17,Basis_Preisliste!B:B,0))=0,"",INDEX(Basis_Preisliste!H:H,MATCH(B17,Basis_Preisliste!B:B,0))) -> 20 | J17: =_xlfn.XLOOKUP(B17,'Article Master Data'!B:B,'Article Master Data'!R:R) -> 960 | L17: =IF(O17>0,O17,"") | M17: =ROUNDDOWN(K17/I17,0) -> 0 | N17: =K17-(M17*I17) -> 0 | O17: =IF(AND(N17<>0,G17=""),'Language Layout'!$B$106,M17*I17*H17+N17*IF(G17="",0,G17)) -> 0 | P17: =K17>0 -> FALSE | Q17: =P17*(MAX($Q$7:Q16)+1) -> 0
B18: 119026-102 | C18: =VLOOKUP(B18,'Language Articles'!A:B,2,0) -> Rapid2+Pro SML | D18: =VLOOKUP(B18,'Language Portfolio'!A:B,2,0) -> Roof hooks | E18: =VLOOKUP(B18,Basis_Preisliste!B:E,4,0) -> 4.893 | F18: =IF(_xlfn.XLOOKUP(B18,Basis_Preisliste!B:B,Basis_Preisliste!F:F)="",_xlfn.XLOOKUP(B18,Basis_Preisliste!B:B,Basis_Preisliste!G:G),_xlfn.XLOOKUP(B18,Basis_Preisliste!B:B,Basis_Preisliste!F:F)) -> 4.66 | G18: =IF(_xlfn.XLOOKUP(B18,Basis_Preisliste!B:B,Basis_Preisliste!F:F)="","", _xlfn.XLOOKUP(B18,Basis_Preisliste!B:B,Basis_Preisliste!F:F)*(1-$G$3)) | H18: =IF(_xlfn.XLOOKUP(B18,Basis_Preisliste!B:B,Basis_Preisliste!G:G)="","to be defined",_xlfn.XLOOKUP(B18,Basis_Preisliste!B:B,Basis_Preisliste!G:G)*(1-$G$3)) -> 4.66 | I18: =IF(INDEX(Basis_Preisliste!H:H,MATCH(B18,Basis_Preisliste!B:B,0))=0,"",INDEX(Basis_Preisliste!H:H,MATCH(B18,Basis_Preisliste!B:B,0))) -> 20 | J18: =_xlfn.XLOOKUP(B18,'Article Master Data'!B:B,'Article Master Data'!R:R) -> 2240 | L18: =IF(O18>0,O18,"") | M18: =ROUNDDOWN(K18/I18,0) -> 0 | N18: =K18-(M18*I18) -> 0 | O18: =IF(AND(N18<>0,G18=""),'Language Layout'!$B$106,M18*I18*H18+N18*IF(G18="",0,G18)) -> 0 | P18: =K18>0 -> FALSE | Q18: =P18*(MAX($Q$7:Q17)+1) -> 0
B19: 119014-012 | C19: =VLOOKUP(B19,'Language Articles'!A:B,2,0) -> FixT-K with KlickTop | D19: =VLOOKUP(B19,'Language Portfolio'!A:B,2,0) -> Roof hooks | E19: =VLOOKUP(B19,Basis_Preisliste!B:E,4,0) -> 11.214 | F19: =IF(_xlfn.XLOOKUP(B19,Basis_Preisliste!B:B,Basis_Preisliste!F:F)="",_xlfn.XLOOKUP(B19,Basis_Preisliste!B:B,Basis_Preisliste!G:G),_xlfn.XLOOKUP(B19,Basis_Preisliste!B:B,Basis_Preisliste!F:F)) -> 10.68 | G19: =IF(_xlfn.XLOOKUP(B19,Basis_Preisliste!B:B,Basis_Preisliste!F:F)="","", _xlfn.XLOOKUP(B19,Basis_Preisliste!B:B,Basis_Preisliste!F:F)*(1-$G$3)) | H19: =IF(_xlfn.XLOOKUP(B19,Basis_Preisliste!B:B,Basis_Preisliste!G:G)="","to be defined",_xlfn.XLOOKUP(B19,Basis_Preisliste!B:B,Basis_Preisliste!G:G)*(1-$G$3)) -> 10.68 | I19: =IF(INDEX(Basis_Preisliste!H:H,MATCH(B19,Basis_Preisliste!B:B,0))=0,"",INDEX(Basis_Preisliste!H:H,MATCH(B19,Basis_Preisliste!B:B,0))) -> 50 | J19: =_xlfn.XLOOKUP(B19,'Article Master Data'!B:B,'Article Master Data'!R:R) -> 1200 | L19: =IF(O19>0,O19,"") | M19: =ROUNDDOWN(K19/I19,0) -> 0 | N19: =K19-(M19*I19) -> 0 | O19: =IF(AND(N19<>0,G19=""),'Language Layout'!$B$106,M19*I19*H19+N19*IF(G19="",0,G19)) -> 0 | P19: =K19>0 -> FALSE | Q19: =P19*(MAX($Q$7:Q18)+1) -> 0
... B98: 131101-101 | C98: =VLOOKUP(B98,'Language Articles'!A:B,2,0) -> End clamp Rapid16 30 - 40 L | D98: =VLOOKUP(B98,'Language Portfolio'!A:B,2,0) -> Module clamps | E98: =VLOOKUP(B98,Basis_Preisliste!B:E,4,0) -> 2.079 | F98: =IF(_xlfn.XLOOKUP(B98,Basis_Preisliste!B:B,Basis_Preisliste!F:F)="",_xlfn.XLOOKUP(B98,Basis_Preisliste!B:B,Basis_Preisliste!G:G),_xlfn.XLOOKUP(B98,Basis_Preisliste!B:B,Basis_Preisliste!F:F)) -> 1.98 | G98: =IF(_xlfn.XLOOKUP(B98,Basis_Preisliste!B:B,Basis_Preisliste!F:F)="","", _xlfn.XLOOKUP(B98,Basis_Preisliste!B:B,Basis_Preisliste!F:F)*(1-$G$3)) | H98: =IF(_xlfn.XLOOKUP(B98,Basis_Preisliste!B:B,Basis_Preisliste!G:G)="","to be defined",_xlfn.XLOOKUP(B98,Basis_Preisliste!B:B,Basis_Preisliste!G:G)*(1-$G$3)) -> 1.98 | I98: =IF(INDEX(Basis_Preisliste!H:H,MATCH(B98,Basis_Preisliste!B:B,0))=0,"",INDEX(Basis_Preisliste!H:H,MATCH(B98,Basis_Preisliste!B:B,0))) -> 50 | J98: =_xlfn.XLOOKUP(B98,'Article Master Data'!B:B,'Article Master Data'!R:R) -> 2400 | L98: =IF(O98>0,O98,"") | M98: =ROUNDDOWN(K98/I98,0) -> 0 | N98: =K98-(M98*I98) -> 0 | O98: =IF(AND(N98<>0,G98=""),'Language Layout'!$B$106,M98*I98*H98+N98*IF(G98="",0,G98)) -> 0 | P98: =K98>0 -> FALSE | Q98: =P98*(MAX($Q$7:Q97)+1) -> 0
B99: 131121-021 | C99: =VLOOKUP(B99,'Language Articles'!A:B,2,0) -> Middle clamp Classic wide | D99: =VLOOKUP(B99,'Language Portfolio'!A:B,2,0) -> Module clamps | E99: =VLOOKUP(B99,Basis_Preisliste!B:E,4,0) -> 1.743 | F99: =IF(_xlfn.XLOOKUP(B99,Basis_Preisliste!B:B,Basis_Preisliste!F:F)="",_xlfn.XLOOKUP(B99,Basis_Preisliste!B:B,Basis_Preisliste!G:G),_xlfn.XLOOKUP(B99,Basis_Preisliste!B:B,Basis_Preisliste!F:F)) -> 1.66 | G99: =IF(_xlfn.XLOOKUP(B99,Basis_Preisliste!B:B,Basis_Preisliste!F:F)="","", _xlfn.XLOOKUP(B99,Basis_Preisliste!B:B,Basis_Preisliste!F:F)*(1-$G$3)) | H99: =IF(_xlfn.XLOOKUP(B99,Basis_Preisliste!B:B,Basis_Preisliste!G:G)="","to be defined",_xlfn.XLOOKUP(B99,Basis_Preisliste!B:B,Basis_Preisliste!G:G)*(1-$G$3)) -> 1.66 | I99: =IF(INDEX(Basis_Preisliste!H:H,MATCH(B99,Basis_Preisliste!B:B,0))=0,"",INDEX(Basis_Preisliste!H:H,MATCH(B99,Basis_Preisliste!B:B,0))) -> 100 | J99: =_xlfn.XLOOKUP(B99,'Article Master Data'!B:B,'Article Master Data'!R:R) -> 6400 | L99: =IF(O99>0,O99,"")
B100: 131101-022 | C100: =VLOOKUP(B100,'Language Articles'!A:B,2,0) -> End clamp Classic wide V | D100: =VLOOKUP(B100,'Language Portfolio'!A:B,2,0) -> Module clamps | E100: =VLOOKUP(B100,Basis_Preisliste!B:E,4,0) -> 1.7745 | F100: =IF(_xlfn.XLOOKUP(B100,Basis_Preisliste!B:B,Basis_Preisliste!F:F)="",_xlfn.XLOOKUP(B100,Basis_Preisliste!B:B,Basis_Preisliste!G:G),_xlfn.XLOOKUP(B100,Basis_Preisliste!B:B,Basis_Preisliste!F:F)) -> 1.69 | G100: =IF(_xlfn.XLOOKUP(B100,Basis_Preisliste!B:B,Basis_Preisliste!F:F)="","", _xlfn.XLOOKUP(B100,Basis_Preisliste!B:B,Basis_Preisliste!F:F)*(1-$G$3)) | H100: =IF(_xlfn.XLOOKUP(B100,Basis_Preisliste!B:B,Basis_Preisliste!G:G)="","to be defined",_xlfn.XLOOKUP(B100,Basis_Preisliste!B:B,Basis_Preisliste!G:G)*(1-$G$3)) -> 1.69 | I100: =IF(INDEX(Basis_Preisliste!H:H,MATCH(B100,Basis_Preisliste!B:B,0))=0,"",INDEX(Basis_Preisliste!H:H,MATCH(B100,Basis_Preisliste!B:B,0))) -> 50 | J100: =_xlfn.XLOOKUP(B100,'Article Master Data'!B:B,'Article Master Data'!R:R) -> 6400 | L100: =IF(O100>0,O100,"")
B101: 131101-021 | C101: =VLOOKUP(B101,'Language Articles'!A:B,2,0) -> End clamp Classic wide H | D101: =VLOOKUP(B101,'Language Portfolio'!A:B,2,0) -> Module clamps | E101: =VLOOKUP(B101,Basis_Preisliste!B:E,4,0) -> 1.7745 | F101: =IF(_xlfn.XLOOKUP(B101,Basis_Preisliste!B:B,Basis_Preisliste!F:F)="",_xlfn.XLOOKUP(B101,Basis_Preisliste!B:B,Basis_Preisliste!G:G),_xlfn.XLOOKUP(B101,Basis_Preisliste!B:B,Basis_Preisliste!F:F)) -> 1.69 | G101: =IF(_xlfn.XLOOKUP(B101,Basis_Preisliste!B:B,Basis_Preisliste!F:F)="","", _xlfn.XLOOKUP(B101,Basis_Preisliste!B:B,Basis_Preisliste!F:F)*(1-$G$3)) | H101: =IF(_xlfn.XLOOKUP(B101,Basis_Preisliste!B:B,Basis_Preisliste!G:G)="","to be defined",_xlfn.XLOOKUP(B101,Basis_Preisliste!B:B,Basis_Preisliste!G:G)*(1-$G$3)) -> 1.69 | I101: =IF(INDEX(Basis_Preisliste!H:H,MATCH(B101,Basis_Preisliste!B:B,0))=0,"",INDEX(Basis_Preisliste!H:H,MATCH(B101,Basis_Preisliste!B:B,0))) -> 50 | J101: =_xlfn.XLOOKUP(B101,'Article Master Data'!B:B,'Article Master Data'!R:R) -> 6400 | L101: =IF(O101>0,O101,"")
B102: 131121-921 | C102: =VLOOKUP(B102,'Language Articles'!A:B,2,0) -> Middle clamp Classic wide black | D102: =VLOOKUP(B102,'Language Portfolio'!A:B,2,0) -> Module clamps | E102: =VLOOKUP(B102,Basis_Preisliste!B:E,4,0) -> 2.7615 | F102: =IF(_xlfn.XLOOKUP(B102,Basis_Preisliste!B:B,Basis_Preisliste!F:F)="",_xlfn.XLOOKUP(B102,Basis_Preisliste!B:B,Basis_Preisliste!G:G),_xlfn.XLOOKUP(B102,Basis_Preisliste!B:B,Basis_Preisliste!F:F)) -> 2.63 | G102: =IF(_xlfn.XLOOKUP(B102,Basis_Preisliste!B:B,Basis_Preisliste!F:F)="","", _xlfn.XLOOKUP(B102,Basis_Preisliste!B:B,Basis_Preisliste!F:F)*(1-$G$3)) | H102: =IF(_xlfn.XLOOKUP(B102,Basis_Preisliste!B:B,Basis_Preisliste!G:G)="","to be defined",_xlfn.XLOOKUP(B102,Basis_Preisliste!B:B,Basis_Preisliste!G:G)*(1-$G$3)) -> 2.63 | I102: =IF(INDEX(Basis_Preisliste!H:H,MATCH(B102,Basis_Preisliste!B:B,0))=0,"",INDEX(Basis_Preisliste!H:H,MATCH(B102,Basis_Preisliste!B:B,0))) -> 100 | J102: =_xlfn.XLOOKUP(B102,'Article Master Data'!B:B,'Article Master Data'!R:R) -> 6400 | L102: =IF(O102>0,O102,"")
B103: 131101-922 | C103: =VLOOKUP(B103,'Language Articles'!A:B,2,0) -> End clamp Classic wide V black | D103: =VLOOKUP(B103,'Language Portfolio'!A:B,2,0) -> Module clamps | E103: =VLOOKUP(B103,Basis_Preisliste!B:E,4,0) -> 2.7615 | F103: =IF(_xlfn.XLOOKUP(B103,Basis_Preisliste!B:B,Basis_Preisliste!F:F)="",_xlfn.XLOOKUP(B103,Basis_Preisliste!B:B,Basis_Preisliste!G:G),_xlfn.XLOOKUP(B103,Basis_Preisliste!B:B,Basis_Preisliste!F:F)) -> 2.63 | G103: =IF(_xlfn.XLOOKUP(B103,Basis_Preisliste!B:B,Basis_Preisliste!F:F)="","", _xlfn.XLOOKUP(B103,Basis_Preisliste!B:B,Basis_Preisliste!F:F)*(1-$G$3)) | H103: =IF(_xlfn.XLOOKUP(B103,Basis_Preisliste!B:B,Basis_Preisliste!G:G)="","to be defined",_xlfn.XLOOKUP(B103,Basis_Preisliste!B:B,Basis_Preisliste!G:G)*(1-$G$3)) -> 2.63 | I103: =IF(INDEX(Basis_Preisliste!H:H,MATCH(B103,Basis_Preisliste!B:B,0))=0,"",INDEX(Basis_Preisliste!H:H,MATCH(B103,Basis_Preisliste!B:B,0))) -> 50 | J103: =_xlfn.XLOOKUP(B103,'Article Master Data'!B:B,'Article Master Data'!R:R) -> 6400 | L103: =IF(O103>0,O103,"")
B104: 131101-921 | C104: =VLOOKUP(B104,'Language Articles'!A:B,2,0) -> End clamp Classic wide H black | D104: =VLOOKUP(B104,'Language Portfolio'!A:B,2,0) -> Module clamps | E104: =VLOOKUP(B104,Basis_Preisliste!B:E,4,0) -> 2.814 | F104: =IF(_xlfn.XLOOKUP(B104,Basis_Preisliste!B:B,Basis_Preisliste!F:F)="",_xlfn.XLOOKUP(B104,Basis_Preisliste!B:B,Basis_Preisliste!G:G),_xlfn.XLOOKUP(B104,Basis_Preisliste!B:B,Basis_Preisliste!F:F)) -> 2.68 | G104: =IF(_xlfn.XLOOKUP(B104,Basis_Preisliste!B:B,Basis_Preisliste!F:F)="","", _xlfn.XLOOKUP(B104,Basis_Preisliste!B:B,Basis_Preisliste!F:F)*(1-$G$3)) | H104: =IF(_xlfn.XLOOKUP(B104,Basis_Preisliste!B:B,Basis_Preisliste!G:G)="","to be defined",_xlfn.XLOOKUP(B104,Basis_Preisliste!B:B,Basis_Preisliste!G:G)*(1-$G$3)) -> 2.68 | I104: =IF(INDEX(Basis_Preisliste!H:H,MATCH(B104,Basis_Preisliste!B:B,0))=0,"",INDEX(Basis_Preisliste!H:H,MATCH(B104,Basis_Preisliste!B:B,0))) -> 50 | J104: =_xlfn.XLOOKUP(B104,'Article Master Data'!B:B,'Article Master Data'!R:R) -> 6400 | L104: =IF(O104>0,O104,"")
B105: 131020-001 | C105: =VLOOKUP(B105,'Language Articles'!A:B,2,0) -> Middle clamp RapidPro 30-47mm | D105: =VLOOKUP(B105,'Language Portfolio'!A:B,2,0) -> Module clamps | E105: =VLOOKUP(B105,Basis_Preisliste!B:E,4,0) -> 1.6695 | F105: =IF(_xlfn.XLOOKUP(B105,Basis_Preisliste!B:B,Basis_Preisliste!F:F)="",_xlfn.XLOOKUP(B105,Basis_Preisliste!B:B,Basis_Preisliste!G:G),_xlfn.XLOOKUP(B105,Basis_Preisliste!B:B,Basis_Preisliste!F:F)) -> 1.59 | G105: =IF(_xlfn.XLOOKUP(B105,Basis_Preisliste!B:B,Basis_Preisliste!F:F)="","", _xlfn.XLOOKUP(B105,Basis_Preisliste!B:B,Basis_Preisliste!F:F)*(1-$G$3)) | H105: =IF(_xlfn.XLOOKUP(B105,Basis_Preisliste!B:B,Basis_Preisliste!G:G)="","to be defined",_xlfn.XLOOKUP(B105,Basis_Preisliste!B:B,Basis_Preisliste!G:G)*(1-$G$3)) -> 1.59 | I105: =IF(INDEX(Basis_Preisliste!H:H,MATCH(B105,Basis_Preisliste!B:B,0))=0,"",INDEX(Basis_Preisliste!H:H,MATCH(B105,Basis_Preisliste!B:B,0))) -> 100 | J105: =_xlfn.XLOOKUP(B105,'Article Master Data'!B:B,'Article Master Data'!R:R) -> 6400 | L105: =IF(O105>0,O105,"") | M105: =ROUNDDOWN(K105/I105,0) -> 0 | N105: =K105-(M105*I105) -> 0 | O105: =IF(AND(N105<>0,G105=""),'Language Layout'!$B$106,M105*I105*H105+N105*IF(G105="",0,G105)) -> 0 | P105: =K105>0 -> FALSE | Q105: =P105*(MAX($Q$7:Q98)+1) -> 0
B106: 131020-901 | C106: =VLOOKUP(B106,'Language Articles'!A:B,2,0) -> Middle clamp RapidPro 30-47mm bl. anod. | D106: =VLOOKUP(B106,'Language Portfolio'!A:B,2,0) -> Module clamps | E106: =VLOOKUP(B106,Basis_Preisliste!B:E,4,0) -> 2.6985 | F106: =IF(_xlfn.XLOOKUP(B106,Basis_Preisliste!B:B,Basis_Preisliste!F:F)="",_xlfn.XLOOKUP(B106,Basis_Preisliste!B:B,Basis_Preisliste!G:G),_xlfn.XLOOKUP(B106,Basis_Preisliste!B:B,Basis_Preisliste!F:F)) -> 2.57 | G106: =IF(_xlfn.XLOOKUP(B106,Basis_Preisliste!B:B,Basis_Preisliste!F:F)="","", _xlfn.XLOOKUP(B106,Basis_Preisliste!B:B,Basis_Preisliste!F:F)*(1-$G$3)) | H106: =IF(_xlfn.XLOOKUP(B106,Basis_Preisliste!B:B,Basis_Preisliste!G:G)="","to be defined",_xlfn.XLOOKUP(B106,Basis_Preisliste!B:B,Basis_Preisliste!G:G)*(1-$G$3)) -> 2.57 | I106: =IF(INDEX(Basis_Preisliste!H:H,MATCH(B106,Basis_Preisliste!B:B,0))=0,"",INDEX(Basis_Preisliste!H:H,MATCH(B106,Basis_Preisliste!B:B,0))) -> 100 | J106: =_xlfn.XLOOKUP(B106,'Article Master Data'!B:B,'Article Master Data'!R:R) -> 6400 | L106: =IF(O106>0,O106,"") | M106: =ROUNDDOWN(K106/I106,0) -> 0 | N106: =K106-(M106*I106) -> 0 | O106: =IF(AND(N106<>0,G106=""),'Language Layout'!$B$106,M106*I106*H106+N106*IF(G106="",0,G106)) -> 0 | P106: =K106>0 -> FALSE | Q106: =P106*(MAX($Q$7:Q105)+1) -> 0
B107: 131020-000 | C107: =VLOOKUP(B107,'Language Articles'!A:B,2,0) -> End clamp RapidPro 30-47mm | D107: =VLOOKUP(B107,'Language Portfolio'!A:B,2,0) -> Module clamps | E107: =VLOOKUP(B107,Basis_Preisliste!B:E,4,0) -> 1.6695 | F107: =IF(_xlfn.XLOOKUP(B107,Basis_Preisliste!B:B,Basis_Preisliste!F:F)="",_xlfn.XLOOKUP(B107,Basis_Preisliste!B:B,Basis_Preisliste!G:G),_xlfn.XLOOKUP(B107,Basis_Preisliste!B:B,Basis_Preisliste!F:F)) -> 1.59 | G107: =IF(_xlfn.XLOOKUP(B107,Basis_Preisliste!B:B,Basis_Preisliste!F:F)="","", _xlfn.XLOOKUP(B107,Basis_Preisliste!B:B,Basis_Preisliste!F:F)*(1-$G$3)) | H107: =IF(_xlfn.XLOOKUP(B107,Basis_Preisliste!B:B,Basis_Preisliste!G:G)="","to be defined",_xlfn.XLOOKUP(B107,Basis_Preisliste!B:B,Basis_Preisliste!G:G)*(1-$G$3)) -> 1.59 | I107: =IF(INDEX(Basis_Preisliste!H:H,MATCH(B107,Basis_Preisliste!B:B,0))=0,"",INDEX(Basis_Preisliste!H:H,MATCH(B107,Basis_Preisliste!B:B,0))) -> 50 | J107: =_xlfn.XLOOKUP(B107,'Article Master Data'!B:B,'Article Master Data'!R:R) -> 6400 | L107: =IF(O107>0,O107,"") | M107: =ROUNDDOWN(K107/I107,0) -> 0 | N107: =K107-(M107*I107) -> 0 | O107: =IF(AND(N107<>0,G107=""),'Language Layout'!$B$106,M107*I107*H107+N107*IF(G107="",0,G107)) -> 0 | P107: =K107>0 -> FALSE | Q107: =P107*(MAX($Q$7:Q106)+1) -> 0
B108: 131020-900 | C108: =VLOOKUP(B108,'Language Articles'!A:B,2,0) -> End clamp RapidPro 30-47mm bl. anod. | D108: =VLOOKUP(B108,'Language Portfolio'!A:B,2,0) -> Module clamps | E108: =VLOOKUP(B108,Basis_Preisliste!B:E,4,0) -> 2.6985 | F108: =IF(_xlfn.XLOOKUP(B108,Basis_Preisliste!B:B,Basis_Preisliste!F:F)="",_xlfn.XLOOKUP(B108,Basis_Preisliste!B:B,Basis_Preisliste!G:G),_xlfn.XLOOKUP(B108,Basis_Preisliste!B:B,Basis_Preisliste!F:F)) -> 2.57 | G108: =IF(_xlfn.XLOOKUP(B108,Basis_Preisliste!B:B,Basis_Preisliste!F:F)="","", _xlfn.XLOOKUP(B108,Basis_Preisliste!B:B,Basis_Preisliste!F:F)*(1-$G$3)) | H108: =IF(_xlfn.XLOOKUP(B108,Basis_Preisliste!B:B,Basis_Preisliste!G:G)="","to be defined",_xlfn.XLOOKUP(B108,Basis_Preisliste!B:B,Basis_Preisliste!G:G)*(1-$G$3)) -> 2.57 | I108: =IF(INDEX(Basis_Preisliste!H:H,MATCH(B108,Basis_Preisliste!B:B,0))=0,"",INDEX(Basis_Preisliste!H:H,MATCH(B108,Basis_Preisliste!B:B,0))) -> 50 | J108: =_xlfn.XLOOKUP(B108,'Article Master Data'!B:B,'Article Master Data'!R:R) -> 6400 | L108: =IF(O108>0,O108,"") | M108: =ROUNDDOWN(K108/I108,0) -> 0 | N108: =K108-(M108*I108) -> 0 | O108: =IF(AND(N108<>0,G108=""),'Language Layout'!$B$106,M108*I108*H108+N108*IF(G108="",0,G108)) -> 0 | P108: =K108>0 -> FALSE | Q108: =P108*(MAX($Q$7:Q107)+1) -> 0
B109: 131021-000 | C109: =VLOOKUP(B109,'Language Articles'!A:B,2,0) -> End clamp Pro | D109: =VLOOKUP(B109,'Language Portfolio'!A:B,2,0) -> Module clamps | E109: =VLOOKUP(B109,Basis_Preisliste!B:E,4,0) -> 1.68 | F109: =IF(_xlfn.XLOOKUP(B109,Basis_Preisliste!B:B,Basis_Preisliste!F:F)="",_xlfn.XLOOKUP(B109,Basis_Preisliste!B:B,Basis_Preisliste!G:G),_xlfn.XLOOKUP(B109,Basis_Preisliste!B:B,Basis_Preisliste!F:F)) -> 1.6 | G109: =IF(_xlfn.XLOOKUP(B109,Basis_Preisliste!B:B,Basis_Preisliste!F:F)="","", _xlfn.XLOOKUP(B109,Basis_Preisliste!B:B,Basis_Preisliste!F:F)*(1-$G$3)) | H109: =IF(_xlfn.XLOOKUP(B109,Basis_Preisliste!B:B,Basis_Preisliste!G:G)="","to be defined",_xlfn.XLOOKUP(B109,Basis_Preisliste!B:B,Basis_Preisliste!G:G)*(1-$G$3)) -> 1.6 | I109: =IF(INDEX(Basis_Preisliste!H:H,MATCH(B109,Basis_Preisliste!B:B,0))=0,"",INDEX(Basis_Preisliste!H:H,MATCH(B109,Basis_Preisliste!B:B,0))) -> 50 | J109: =_xlfn.XLOOKUP(B109,'Article Master Data'!B:B,'Article Master Data'!R:R) -> 5600 | L109: =IF(O109>0,O109,"") | M109: =ROUNDDOWN(K109/I109,0) -> 0 | N109: =K109-(M109*I109) -> 0 | O109: =IF(AND(N109<>0,G109=""),'Language Layout'!$B$106,M109*I109*H109+N109*IF(G109="",0,G109)) -> 0 | P109: =K109>0 -> FALSE | Q109: =P109*(MAX($Q$7:Q108)+1) -> 0
B110: 131021-001 | C110: =VLOOKUP(B110,'Language Articles'!A:B,2,0) -> Middle clamp Pro | D110: =VLOOKUP(B110,'Language Portfolio'!A:B,2,0) -> Module clamps | E110: =VLOOKUP(B110,Basis_Preisliste!B:E,4,0) -> 1.68 | F110: =IF(_xlfn.XLOOKUP(B110,Basis_Preisliste!B:B,Basis_Preisliste!F:F)="",_xlfn.XLOOKUP(B110,Basis_Preisliste!B:B,Basis_Preisliste!G:G),_xlfn.XLOOKUP(B110,Basis_Preisliste!B:B,Basis_Preisliste!F:F)) -> 1.6 | G110: =IF(_xlfn.XLOOKUP(B110,Basis_Preisliste!B:B,Basis_Preisliste!F:F)="","", _xlfn.XLOOKUP(B110,Basis_Preisliste!B:B,Basis_Preisliste!F:F)*(1-$G$3)) | H110: =IF(_xlfn.XLOOKUP(B110,Basis_Preisliste!B:B,Basis_Preisliste!G:G)="","to be defined",_xlfn.XLOOKUP(B110,Basis_Preisliste!B:B,Basis_Preisliste!G:G)*(1-$G$3)) -> 1.6 | I110: =IF(INDEX(Basis_Preisliste!H:H,MATCH(B110,Basis_Preisliste!B:B,0))=0,"",INDEX(Basis_Preisliste!H:H,MATCH(B110,Basis_Preisliste!B:B,0))) -> 100 | J110: =_xlfn.XLOOKUP(B110,'Article Master Data'!B:B,'Article Master Data'!R:R) -> 4800 | L110: =IF(O110>0,O110,"") | M110: =ROUNDDOWN(K110/I110,0) -> 0 | N110: =K110-(M110*I110) -> 0 | O110: =IF(AND(N110<>0,G110=""),'Language Layout'!$B$106,M110*I110*H110+N110*IF(G110="",0,G110)) -> 0 | P110: =K110>0 -> FALSE | Q110: =P110*(MAX($Q$7:Q109)+1) -> 0
B111: 131021-900 | C111: =VLOOKUP(B111,'Language Articles'!A:B,2,0) -> End clamp Pro black | D111: =VLOOKUP(B111,'Language Portfolio'!A:B,2,0) -> Module clamps | E111: =VLOOKUP(B111,Basis_Preisliste!B:E,4,0) -> 2.709 | F111: =IF(_xlfn.XLOOKUP(B111,Basis_Preisliste!B:B,Basis_Preisliste!F:F)="",_xlfn.XLOOKUP(B111,Basis_Preisliste!B:B,Basis_Preisliste!G:G),_xlfn.XLOOKUP(B111,Basis_Preisliste!B:B,Basis_Preisliste!F:F)) -> 2.58 | G111: =IF(_xlfn.XLOOKUP(B111,Basis_Preisliste!B:B,Basis_Preisliste!F:F)="","", _xlfn.XLOOKUP(B111,Basis_Preisliste!B:B,Basis_Preisliste!F:F)*(1-$G$3)) | H111: =IF(_xlfn.XLOOKUP(B111,Basis_Preisliste!B:B,Basis_Preisliste!G:G)="","to be defined",_xlfn.XLOOKUP(B111,Basis_Preisliste!B:B,Basis_Preisliste!G:G)*(1-$G$3)) -> 2.58 | I111: =IF(INDEX(Basis_Preisliste!H:H,MATCH(B111,Basis_Preisliste!B:B,0))=0,"",INDEX(Basis_Preisliste!H:H,MATCH(B111,Basis_Preisliste!B:B,0))) -> 50 | J111: =_xlfn.XLOOKUP(B111,'Article Master Data'!B:B,'Article Master Data'!R:R) -> 5600 | L111: =IF(O111>0,O111,"") | M111: =ROUNDDOWN(K111/I111,0) -> 0 | N111: =K111-(M111*I111) -> 0 | O111: =IF(AND(N111<>0,G111=""),'Language Layout'!$B$106,M111*I111*H111+N111*IF(G111="",0,G111)) -> 0 | P111: =K111>0 -> FALSE | Q111: =P111*(MAX($Q$7:Q110)+1) -> 0
B112: 131021-901 | C112: =VLOOKUP(B112,'Language Articles'!A:B,2,0) -> Middle clamp Pro black | D112: =VLOOKUP(B112,'Language Portfolio'!A:B,2,0) -> Module clamps | E112: =VLOOKUP(B112,Basis_Preisliste!B:E,4,0) -> 2.709 | F112: =IF(_xlfn.XLOOKUP(B112,Basis_Preisliste!B:B,Basis_Preisliste!F:F)="",_xlfn.XLOOKUP(B112,Basis_Preisliste!B:B,Basis_Preisliste!G:G),_xlfn.XLOOKUP(B112,Basis_Preisliste!B:B,Basis_Preisliste!F:F)) -> 2.58 | G112: =IF(_xlfn.XLOOKUP(B112,Basis_Preisliste!B:B,Basis_Preisliste!F:F)="","", _xlfn.XLOOKUP(B112,Basis_Preisliste!B:B,Basis_Preisliste!F:F)*(1-$G$3)) | H112: =IF(_xlfn.XLOOKUP(B112,Basis_Preisliste!B:B,Basis_Preisliste!G:G)="","to be defined",_xlfn.XLOOKUP(B112,Basis_Preisliste!B:B,Basis_Preisliste!G:G)*(1-$G$3)) -> 2.58 | I112: =IF(INDEX(Basis_Preisliste!H:H,MATCH(B112,Basis_Preisliste!B:B,0))=0,"",INDEX(Basis_Preisliste!H:H,MATCH(B112,Basis_Preisliste!B:B,0))) -> 100 | J112: =_xlfn.XLOOKUP(B112,'Article Master Data'!B:B,'Article Master Data'!R:R) -> 4800 | L112: =IF(O112>0,O112,"") | M112: =ROUNDDOWN(K112/I112,0) -> 0 | N112: =K112-(M112*I112) -> 0 | O112: =IF(AND(N112<>0,G112=""),'Language Layout'!$B$106,M112*I112*H112+N112*IF(G112="",0,G112)) -> 0 | P112: =K112>0 -> FALSE | Q112: =P112*(MAX($Q$7:Q111)+1) -> 0
B113: 132101-308 | C113: =VLOOKUP(B113,'Language Articles'!A:B,2,0) -> End clamp Profi narrow 3-8mm kit | D113: =VLOOKUP(B113,'Language Portfolio'!A:B,2,0) -> Module clamps | E113: =VLOOKUP(B113,Basis_Preisliste!B:E,4,0) -> 7.2345 | F113: =IF(_xlfn.XLOOKUP(B113,Basis_Preisliste!B:B,Basis_Preisliste!F:F)="",_xlfn.XLOOKUP(B113,Basis_Preisliste!B:B,Basis_Preisliste!G:G),_xlfn.XLOOKUP(B113,Basis_Preisliste!B:B,Basis_Preisliste!F:F)) -> 6.89 | G113: =IF(_xlfn.XLOOKUP(B113,Basis_Preisliste!B:B,Basis_Preisliste!F:F)="","", _xlfn.XLOOKUP(B113,Basis_Preisliste!B:B,Basis_Preisliste!F:F)*(1-$G$3)) | H113: =IF(_xlfn.XLOOKUP(B113,Basis_Preisliste!B:B,Basis_Preisliste!G:G)="","to be defined",_xlfn.XLOOKUP(B113,Basis_Preisliste!B:B,Basis_Preisliste!G:G)*(1-$G$3)) -> 6.89 | I113: =IF(INDEX(Basis_Preisliste!H:H,MATCH(B113,Basis_Preisliste!B:B,0))=0,"",INDEX(Basis_Preisliste!H:H,MATCH(B113,Basis_Preisliste!B:B,0))) -> 100 | J113: =_xlfn.XLOOKUP(B113,'Article Master Data'!B:B,'Article Master Data'!R:R) -> 2400 | L113: =IF(O113>0,O113,"") | M113: =ROUNDDOWN(K113/I113,0) -> 0 | N113: =K113-(M113*I113) -> 0 | O113: =IF(AND(N113<>0,G113=""),'Language Layout'!$B$106,M113*I113*H113+N113*IF(G113="",0,G113)) -> 0 | P113: =K113>0 -> FALSE | Q113: =P113*(MAX($Q$7:Q112)+1) -> 0
B114: 132102-308 | C114: =VLOOKUP(B114,'Language Articles'!A:B,2,0) -> End clamp Profi wide 3-8mm set | D114: =VLOOKUP(B114,'Language Portfolio'!A:B,2,0) -> Module clamps | E114: =VLOOKUP(B114,Basis_Preisliste!B:E,4,0) -> 7.2345 | F114: =IF(_xlfn.XLOOKUP(B114,Basis_Preisliste!B:B,Basis_Preisliste!F:F)="",_xlfn.XLOOKUP(B114,Basis_Preisliste!B:B,Basis_Preisliste!G:G),_xlfn.XLOOKUP(B114,Basis_Preisliste!B:B,Basis_Preisliste!F:F)) -> 6.89 | G114: =IF(_xlfn.XLOOKUP(B114,Basis_Preisliste!B:B,Basis_Preisliste!F:F)="","", _xlfn.XLOOKUP(B114,Basis_Preisliste!B:B,Basis_Preisliste!F:F)*(1-$G$3)) | H114: =IF(_xlfn.XLOOKUP(B114,Basis_Preisliste!B:B,Basis_Preisliste!G:G)="","to be defined",_xlfn.XLOOKUP(B114,Basis_Preisliste!B:B,Basis_Preisliste!G:G)*(1-$G$3)) -> 6.89 | I114: =IF(INDEX(Basis_Preisliste!H:H,MATCH(B114,Basis_Preisliste!B:B,0))=0,"",INDEX(Basis_Preisliste!H:H,MATCH(B114,Basis_Preisliste!B:B,0))) -> 100 | J114: =_xlfn.XLOOKUP(B114,'Article Master Data'!B:B,'Article Master Data'!R:R) -> 2400 | L114: =IF(O114>0,O114,"") | M114: =ROUNDDOWN(K114/I114,0) -> 0 | N114: =K114-(M114*I114) -> 0 | O114: =IF(AND(N114<>0,G114=""),'Language Layout'!$B$106,M114*I114*H114+N114*IF(G114="",0,G114)) -> 0 | P114: =K114>0 -> FALSE | Q114: =P114*(MAX($Q$7:Q113)+1) -> 0
B115: 132201-308 | C115: =VLOOKUP(B115,'Language Articles'!A:B,2,0) -> Middle clamp Profi narrow 3-8mm kit | D115: =VLOOKUP(B115,'Language Portfolio'!A:B,2,0) -> Module clamps | E115: =VLOOKUP(B115,Basis_Preisliste!B:E,4,0) -> 7.2345 | F115: =IF(_xlfn.XLOOKUP(B115,Basis_Preisliste!B:B,Basis_Preisliste!F:F)="",_xlfn.XLOOKUP(B115,Basis_Preisliste!B:B,Basis_Preisliste!G:G),_xlfn.XLOOKUP(B115,Basis_Preisliste!B:B,Basis_Preisliste!F:F)) -> 6.89 | G115: =IF(_xlfn.XLOOKUP(B115,Basis_Preisliste!B:B,Basis_Preisliste!F:F)="","", _xlfn.XLOOKUP(B115,Basis_Preisliste!B:B,Basis_Preisliste!F:F)*(1-$G$3)) | H115: =IF(_xlfn.XLOOKUP(B115,Basis_Preisliste!B:B,Basis_Preisliste!G:G)="","to be defined",_xlfn.XLOOKUP(B115,Basis_Preisliste!B:B,Basis_Preisliste!G:G)*(1-$G$3)) -> 6.89 | I115: =IF(INDEX(Basis_Preisliste!H:H,MATCH(B115,Basis_Preisliste!B:B,0))=0,"",INDEX(Basis_Preisliste!H:H,MATCH(B115,Basis_Preisliste!B:B,0))) -> 100 | J115: =_xlfn.XLOOKUP(B115,'Article Master Data'!B:B,'Article Master Data'!R:R) -> 2400 | L115: =IF(O115>0,O115,"") | M115: =ROUNDDOWN(K115/I115,0) -> 0 | N115: =K115-(M115*I115) -> 0 | O115: =IF(AND(N115<>0,G115=""),'Language Layout'!$B$106,M115*I115*H115+N115*IF(G115="",0,G115)) -> 0 | P115: =K115>0 -> FALSE | Q115: =P115*(MAX($Q$7:Q114)+1) -> 0
B116: 132202-308 | C116: =VLOOKUP(B116,'Language Articles'!A:B,2,0) -> Middle clamp Profi wide 3-8mm set | D116: =VLOOKUP(B116,'Language Portfolio'!A:B,2,0) -> Module clamps | E116: =VLOOKUP(B116,Basis_Preisliste!B:E,4,0) -> 7.2345 | F116: =IF(_xlfn.XLOOKUP(B116,Basis_Preisliste!B:B,Basis_Preisliste!F:F)="",_xlfn.XLOOKUP(B116,Basis_Preisliste!B:B,Basis_Preisliste!G:G),_xlfn.XLOOKUP(B116,Basis_Preisliste!B:B,Basis_Preisliste!F:F)) -> 6.89 | G116: =IF(_xlfn.XLOOKUP(B116,Basis_Preisliste!B:B,Basis_Preisliste!F:F)="","", _xlfn.XLOOKUP(B116,Basis_Preisliste!B:B,Basis_Preisliste!F:F)*(1-$G$3)) | H116: =IF(_xlfn.XLOOKUP(B116,Basis_Preisliste!B:B,Basis_Preisliste!G:G)="","to be defined",_xlfn.XLOOKUP(B116,Basis_Preisliste!B:B,Basis_Preisliste!G:G)*(1-$G$3)) -> 6.89 | I116: =IF(INDEX(Basis_Preisliste!H:H,MATCH(B116,Basis_Preisliste!B:B,0))=0,"",INDEX(Basis_Preisliste!H:H,MATCH(B116,Basis_Preisliste!B:B,0))) -> 100 | J116: =_xlfn.XLOOKUP(B116,'Article Master Data'!B:B,'Article Master Data'!R:R) -> 2400 | L116: =IF(O116>0,O116,"") | M116: =ROUNDDOWN(K116/I116,0) -> 0 | N116: =K116-(M116*I116) -> 0 | O116: =IF(AND(N116<>0,G116=""),'Language Layout'!$B$106,M116*I116*H116+N116*IF(G116="",0,G116)) -> 0 | P116: =K116>0 -> FALSE | Q116: =P116*(MAX($Q$7:Q115)+1) -> 0
B117: 133164-168 | C117: =VLOOKUP(B117,'Language Articles'!A:B,2,0) -> End clamp Eco6-S4 6.8mm kit | D117: =VLOOKUP(B117,'Language Portfolio'!A:B,2,0) -> Module clamps | E117: =VLOOKUP(B117,Basis_Preisliste!B:E,4,0) -> 2.6145 | F117: =IF(_xlfn.XLOOKUP(B117,Basis_Preisliste!B:B,Basis_Preisliste!F:F)="",_xlfn.XLOOKUP(B117,Basis_Preisliste!B:B,Basis_Preisliste!G:G),_xlfn.XLOOKUP(B117,Basis_Preisliste!B:B,Basis_Preisliste!F:F)) -> 2.49 | G117: =IF(_xlfn.XLOOKUP(B117,Basis_Preisliste!B:B,Basis_Preisliste!F:F)="","", _xlfn.XLOOKUP(B117,Basis_Preisliste!B:B,Basis_Preisliste!F:F)*(1-$G$3)) | H117: =IF(_xlfn.XLOOKUP(B117,Basis_Preisliste!B:B,Basis_Preisliste!G:G)="","to be defined",_xlfn.XLOOKUP(B117,Basis_Preisliste!B:B,Basis_Preisliste!G:G)*(1-$G$3)) -> 2.49 | I117: =IF(INDEX(Basis_Preisliste!H:H,MATCH(B117,Basis_Preisliste!B:B,0))=0,"",INDEX(Basis_Preisliste!H:H,MATCH(B117,Basis_Preisliste!B:B,0))) -> 100 | J117: =_xlfn.XLOOKUP(B117,'Article Master Data'!B:B,'Article Master Data'!R:R) -> 4800 | L117: =IF(O117>0,O117,"") | M117: =ROUNDDOWN(K117/I117,0) -> 0 | N117: =K117-(M117*I117) -> 0 | O117: =IF(AND(N117<>0,G117=""),'Language Layout'!$B$106,M117*I117*H117+N117*IF(G117="",0,G117)) -> 0 | P117: =K117>0 -> FALSE | Q117: =P117*(MAX($Q$7:Q116)+1) -> 0
... B152: 120020-04400 | C152: =VLOOKUP(B152,'Language Articles'!A:B,2,0) -> Module bearing rail Pro35 4400mm | D152: =VLOOKUP(B152,'Language Portfolio'!A:B,2,0) -> Profiles | E152: =VLOOKUP(B152,Basis_Preisliste!B:E,4,0) -> 43.07 | F152: =IF(_xlfn.XLOOKUP(B152,Basis_Preisliste!B:B,Basis_Preisliste!F:F)="",_xlfn.XLOOKUP(B152,Basis_Preisliste!B:B,Basis_Preisliste!G:G),_xlfn.XLOOKUP(B152,Basis_Preisliste!B:B,Basis_Preisliste!F:F)) -> 43.07 | G152: =IF(_xlfn.XLOOKUP(B152,Basis_Preisliste!B:B,Basis_Preisliste!F:F)="","", _xlfn.XLOOKUP(B152,Basis_Preisliste!B:B,Basis_Preisliste!F:F)*(1-$G$3)) -> 43.07 | H152: =IF(_xlfn.XLOOKUP(B152,Basis_Preisliste!B:B,Basis_Preisliste!G:G)="","to be defined",_xlfn.XLOOKUP(B152,Basis_Preisliste!B:B,Basis_Preisliste!G:G)*(1-$G$3)) -> 38.77 | I152: =IF(INDEX(Basis_Preisliste!H:H,MATCH(B152,Basis_Preisliste!B:B,0))=0,"",INDEX(Basis_Preisliste!H:H,MATCH(B152,Basis_Preisliste!B:B,0))) -> 200 | J152: =_xlfn.XLOOKUP(B152,'Article Master Data'!B:B,'Article Master Data'!R:R) -> 200 | L152: =IF(O152>0,O152,"") | M152: =ROUNDDOWN(K152/I152,0) -> 0 | N152: =K152-(M152*I152) -> 0 | O152: =IF(AND(N152<>0,G152=""),'Language Layout'!$B$106,M152*I152*H152+N152*IF(G152="",0,G152)) -> 0 | P152: =K152>0 -> FALSE | Q152: =P152*(MAX($Q$7:Q151)+1) -> 0
B153: 120020-04750 | C153: =VLOOKUP(B153,'Language Articles'!A:B,2,0) -> Module bearing rail Pro35 4750mm | D153: =VLOOKUP(B153,'Language Portfolio'!A:B,2,0) -> Profiles | E153: =VLOOKUP(B153,Basis_Preisliste!B:E,4,0) -> 46.5 | F153: =IF(_xlfn.XLOOKUP(B153,Basis_Preisliste!B:B,Basis_Preisliste!F:F)="",_xlfn.XLOOKUP(B153,Basis_Preisliste!B:B,Basis_Preisliste!G:G),_xlfn.XLOOKUP(B153,Basis_Preisliste!B:B,Basis_Preisliste!F:F)) -> 46.5 | G153: =IF(_xlfn.XLOOKUP(B153,Basis_Preisliste!B:B,Basis_Preisliste!F:F)="","", _xlfn.XLOOKUP(B153,Basis_Preisliste!B:B,Basis_Preisliste!F:F)*(1-$G$3)) -> 46.5 | H153: =IF(_xlfn.XLOOKUP(B153,Basis_Preisliste!B:B,Basis_Preisliste!G:G)="","to be defined",_xlfn.XLOOKUP(B153,Basis_Preisliste!B:B,Basis_Preisliste!G:G)*(1-$G$3)) -> 41.85 | I153: =IF(INDEX(Basis_Preisliste!H:H,MATCH(B153,Basis_Preisliste!B:B,0))=0,"",INDEX(Basis_Preisliste!H:H,MATCH(B153,Basis_Preisliste!B:B,0))) -> 200 | J153: =_xlfn.XLOOKUP(B153,'Article Master Data'!B:B,'Article Master Data'!R:R) -> 200 | L153: =IF(O153>0,O153,"") | M153: =ROUNDDOWN(K153/I153,0) -> 0 | N153: =K153-(M153*I153) -> 0 | O153: =IF(AND(N153<>0,G153=""),'Language Layout'!$B$106,M153*I153*H153+N153*IF(G153="",0,G153)) -> 0 | P153: =K153>0 -> FALSE | Q153: =P153*(MAX($Q$7:Q151)+1) -> 0
...

Sheet Bill of materials
D2: ='Language Layout'!$B$79 -> Bill of materials | E2: ='Language Layout'!$B$49 -> Your discount (%): | F2: ='Schletter Price list 2025'!$G$3 -> 0 | G2: ='Schletter Price list 2025'!$K$5 -> 0 | H2: ='Schletter Price list 2025'!$L$5 -> 0
D3: ='Language Layout'!$B$47 -> Valid from 01.05.2025 (subject to modifications)
B4: ='Language Layout'!$B$98 -> Product family | C4: ='Language Layout'!$B$17 -> Item No. | D4: ='Language Layout'!$B$14 -> Material short text | E4: ='Language Layout'!$B$103 -> Piece | F4: ='Language Layout'!$B$85 -> Packing unit | G4: ='Language Layout'!$B$57 -> Quantity | H4: ='Language Layout'!$B$43 -> Total
E5: ='Language Layout'!$B$104 -> Price (€) per piece | F5: ='Language Layout'!$B$104 -> Price (€) per piece | H5: ='Language Layout'!B81 -> Total (€)
B6: {=IFERROR(INDEX('Schletter Price list 2025'!D:D,'Bill of materials'!$J6),"")} | C6: {=IFERROR(INDEX('Schletter Price list 2025'!B:B,'Bill of materials'!$J6),"")} | D6: {=IFERROR(INDEX('Schletter Price list 2025'!C:C,'Bill of materials'!$J6),"")} | E6: {=IFERROR(INDEX('Schletter Price list 2025'!G:G,'Bill of materials'!$J6),"")} | F6: {=IFERROR(INDEX('Schletter Price list 2025'!H:H,'Bill of materials'!$J6),"")} | G6: {=IFERROR(INDEX('Schletter Price list 2025'!K:K,'Bill of materials'!$J6),"")} | H6: {=IFERROR(INDEX('Schletter Price list 2025'!L:L,'Bill of materials'!$J6),"")} | J6: =IFERROR(MATCH(K6,'Schletter Price list 2025'!Q:Q,0),"") | K6: 1
B7: {=IFERROR(INDEX('Schletter Price list 2025'!D:D,'Bill of materials'!$J7),"")} | C7: {=IFERROR(INDEX('Schletter Price list 2025'!B:B,'Bill of materials'!$J7),"")} | D7: {=IFERROR(INDEX('Schletter Price list 2025'!C:C,'Bill of materials'!$J7),"")} | E7: {=IFERROR(INDEX('Schletter Price list 2025'!G:G,'Bill of materials'!$J7),"")} | F7: {=IFERROR(INDEX('Schletter Price list 2025'!H:H,'Bill of materials'!$J7),"")} | G7: {=IFERROR(INDEX('Schletter Price list 2025'!K:K,'Bill of materials'!$J7),"")} | H7: {=IFERROR(INDEX('Schletter Price list 2025'!L:L,'Bill of materials'!$J7),"")} | J7: =IFERROR(MATCH(K7,'Schletter Price list 2025'!Q:Q,0),"") | K7: 2
B8: {=IFERROR(INDEX('Schletter Price list 2025'!D:D,'Bill of materials'!$J8),"")} | C8: {=IFERROR(INDEX('Schletter Price list 2025'!B:B,'Bill of materials'!$J8),"")} | D8: {=IFERROR(INDEX('Schletter Price list 2025'!C:C,'Bill of materials'!$J8),"")} | E8: {=IFERROR(INDEX('Schletter Price list 2025'!G:G,'Bill of materials'!$J8),"")} | F8: {=IFERROR(INDEX('Schletter Price list 2025'!H:H,'Bill of materials'!$J8),"")} | G8: {=IFERROR(INDEX('Schletter Price list 2025'!K:K,'Bill of materials'!$J8),"")} | H8: {=IFERROR(INDEX('Schletter Price list 2025'!L:L,'Bill of materials'!$J8),"")} | J8: =IFERROR(MATCH(K8,'Schletter Price list 2025'!Q:Q,0),"") | K8: 3
B9: {=IFERROR(INDEX('Schletter Price list 2025'!D:D,'Bill of materials'!$J9),"")} | C9: {=IFERROR(INDEX('Schletter Price list 2025'!B:B,'Bill of materials'!$J9),"")} | D9: {=IFERROR(INDEX('Schletter Price list 2025'!C:C,'Bill of materials'!$J9),"")} | E9: {=IFERROR(INDEX('Schletter Price list 2025'!G:G,'Bill of materials'!$J9),"")} | F9: {=IFERROR(INDEX('Schletter Price list 2025'!H:H,'Bill of materials'!$J9),"")} | G9: {=IFERROR(INDEX('Schletter Price list 2025'!K:K,'Bill of materials'!$J9),"")} | H9: {=IFERROR(INDEX('Schletter Price list 2025'!L:L,'Bill of materials'!$J9),"")} | J9: =IFERROR(MATCH(K9,'Schletter Price list 2025'!Q:Q,0),"") | K9: 4
B10: {=IFERROR(INDEX('Schletter Price list 2025'!D:D,'Bill of materials'!$J10),"")} | C10: {=IFERROR(INDEX('Schletter Price list 2025'!B:B,'Bill of materials'!$J10),"")} | D10: {=IFERROR(INDEX('Schletter Price list 2025'!C:C,'Bill of materials'!$J10),"")} | E10: {=IFERROR(INDEX('Schletter Price list 2025'!G:G,'Bill of materials'!$J10),"")} | F10: {=IFERROR(INDEX('Schletter Price list 2025'!H:H,'Bill of materials'!$J10),"")} | G10: {=IFERROR(INDEX('Schletter Price list 2025'!K:K,'Bill of materials'!$J10),"")} | H10: {=IFERROR(INDEX('Schletter Price list 2025'!L:L,'Bill of materials'!$J10),"")} | J10: =IFERROR(MATCH(K10,'Schletter Price list 2025'!Q:Q,0),"") | K10: 5
B11: {=IFERROR(INDEX('Schletter Price list 2025'!D:D,'Bill of materials'!$J11),"")} | C11: {=IFERROR(INDEX('Schletter Price list 2025'!B:B,'Bill of materials'!$J11),"")} | D11: {=IFERROR(INDEX('Schletter Price list 2025'!C:C,'Bill of materials'!$J11),"")} | E11: {=IFERROR(INDEX('Schletter Price list 2025'!G:G,'Bill of materials'!$J11),"")} | F11: {=IFERROR(INDEX('Schletter Price list 2025'!H:H,'Bill of materials'!$J11),"")} | G11: {=IFERROR(INDEX('Schletter Price list 2025'!K:K,'Bill of materials'!$J11),"")} | H11: {=IFERROR(INDEX('Schletter Price list 2025'!L:L,'Bill of materials'!$J11),"")} | J11: =IFERROR(MATCH(K11,'Schletter Price list 2025'!Q:Q,0),"") | K11: 6
B12: {=IFERROR(INDEX('Schletter Price list 2025'!D:D,'Bill of materials'!$J12),"")} | C12: {=IFERROR(INDEX('Schletter Price list 2025'!B:B,'Bill of materials'!$J12),"")} | D12: {=IFERROR(INDEX('Schletter Price list 2025'!C:C,'Bill of materials'!$J12),"")} | E12: {=IFERROR(INDEX('Schletter Price list 2025'!G:G,'Bill of materials'!$J12),"")} | F12: {=IFERROR(INDEX('Schletter Price list 2025'!H:H,'Bill of materials'!$J12),"")} | G12: {=IFERROR(INDEX('Schletter Price list 2025'!K:K,'Bill of materials'!$J12),"")} | H12: {=IFERROR(INDEX('Schletter Price list 2025'!L:L,'Bill of materials'!$J12),"")} | J12: =IFERROR(MATCH(K12,'Schletter Price list 2025'!Q:Q,0),"") | K12: 7
B13: {=IFERROR(INDEX('Schletter Price list 2025'!D:D,'Bill of materials'!$J13),"")} | C13: {=IFERROR(INDEX('Schletter Price list 2025'!B:B,'Bill of materials'!$J13),"")} | D13: {=IFERROR(INDEX('Schletter Price list 2025'!C:C,'Bill of materials'!$J13),"")} | E13: {=IFERROR(INDEX('Schletter Price list 2025'!G:G,'Bill of materials'!$J13),"")} | F13: {=IFERROR(INDEX('Schletter Price list 2025'!H:H,'Bill of materials'!$J13),"")} | G13: {=IFERROR(INDEX('Schletter Price list 2025'!K:K,'Bill of materials'!$J13),"")} | H13: {=IFERROR(INDEX('Schletter Price list 2025'!L:L,'Bill of materials'!$J13),"")} | J13: =IFERROR(MATCH(K13,'Schletter Price list 2025'!Q:Q,0),"") | K13: 8
